BEGIN:VCALENDAR
VERSION:2.0
PRODID:-//wp-events-plugin.com//7.2.3.1//EN
TZID:America/New_York
X-WR-TIMEZONE:America/New_York
BEGIN:VEVENT
UID:144@buckeyeflyfishers.com
DTSTART;TZID=America/New_York:20260516T100000
DTEND;TZID=America/New_York:20260516T100000
DTSTAMP:20260210T125041Z
URL:https://buckeyeflyfishers.com/events/stream-quality-monitoring-2/
SUMMARY:Stream Quality Monitoring
DESCRIPTION:
CATEGORIES:Conservation
LOCATION:LMR\, Caesar's Creek Access\, Co Rd 39\, Waynesville\, OH\, 45068\
 , United States
X-APPLE-STRUCTURED-LOCATION;VALUE=URI;X-ADDRESS=Co Rd 39\, Waynesville\, OH
 \, 45068\, United States;X-APPLE-RADIUS=100;X-TITLE=LMR\, Caesar's Creek A
 ccess:geo:0,0
END:VEVENT
BEGIN:VTIMEZONE
TZID:America/New_York
X-LIC-LOCATION:America/New_York
BEGIN:DAYLIGHT
DTSTART:20260308T030000
TZOFFSETFROM:-0500
TZOFFSETTO:-0400
TZNAME:EDT
END:DAYLIGHT
END:VTIMEZONE
END:VCALENDAR